BEGIN:VCALENDAR
PRODID:-//eluceo/ical//2.0/EN
VERSION:2.0
CALSCALE:GREGORIAN
BEGIN:VEVENT
UID:9c839aa0aa6d6b35c93c27bf42d2ad4e
DTSTAMP:20260423T214530Z
SUMMARY:The Abraham Accords Post October 7
DESCRIPTION:Jewish Federation of New Hampshire\nCommunity Calendar\nhttps:/
 /jewishnh.org/community-calendar/the-abraham-accords-post-october-7-170835
 7786\n\nIdo Aharoni will explore the history of Israeli-Arab normalization
  and the latest chapter of the Abraham Accords that includes UAE\, Bahrain
  and Morocco. The recording will be available to everyone who registers fo
 r the program. For more information\, contact Sharon Wyner at 978-565-4450
  or email swyner@lappinfoundation.org. The program is free\, and everyone 
 is welcome.\n\nREGISTER at https://lappinfoundation.tfaforms.net/77
DTSTART;TZID=America/New_York:20240321T190000
DTEND;TZID=America/New_York:20240321T200000
END:VEVENT
END:VCALENDAR
