BEGIN:VCALENDAR
PRODID:-//eluceo/ical//2.0/EN
VERSION:2.0
CALSCALE:GREGORIAN
BEGIN:VEVENT
UID:2c4e1803637e129fdf63ca251a86b431
DTSTAMP:20260424T122626Z
SUMMARY:THE ANNUAL CAR MENORAH PARADE
DESCRIPTION:Jewish Federation of New Hampshire\nCommunity Calendar\nhttps:/
 /jewishnh.org/community-calendar/the-annual-car-menorah-parade-1636737042\
 n\nJoin us for the annual Car Menorah Parade followed in the Seacoast of N
 H.\nTuesday November 30 4:30pm\n• leaving from the Seacoast Jewish Cente
 r\n- Drive a car and make history\n- Chanukah treats for each car\n- Fun f
 or the whole Family\nTo RSVP: JewishSeacoast.com/Parade
DTSTART;TZID=America/New_York:20211130T163000
DTEND;TZID=America/New_York:20211130T173000
END:VEVENT
END:VCALENDAR
