BEGIN:VCALENDAR
PRODID:-//eluceo/ical//2.0/EN
VERSION:2.0
CALSCALE:GREGORIAN
BEGIN:VEVENT
UID:2ccd2900a412dbfde42159d26d166501
DTSTAMP:20260422T082830Z
SUMMARY:"The Business of Baseball:  Building Polar Park"
DESCRIPTION:Jewish Federation of New Hampshire\nCommunity Calendar\nhttps:/
 /jewishnh.org/community-calendar/the-business-of-baseball--building-polar-
 park-1628626697\n\nThe is a live Zoom event due to the current pandemic.
DTSTART;TZID=America/New_York:20210919T093000
DTEND;TZID=America/New_York:20210919T113000
END:VEVENT
END:VCALENDAR
