BEGIN:VCALENDAR
PRODID:-//eluceo/ical//2.0/EN
VERSION:2.0
CALSCALE:GREGORIAN
BEGIN:VEVENT
UID:286c42b2e8ac18b84a9afcf72a602add
DTSTAMP:20260422T141519Z
SUMMARY:The Challenges of Jewish Education.
DESCRIPTION:Jewish Federation of New Hampshire\nCommunity Calendar\nhttps:/
 /jewishnh.org/community-calendar/the-challenges-of-jewish-education-167883
 7700\n\nThe Challenges of Jewish Education. Megan Hogan\, head of the Etz 
 Hayim Hebrew School discusses the many challenges and opportunities in pro
 viding a Jewish education to our youngsters. They range from the many acti
 vities our students are involved with to the expansion of Jewish topics
DTSTART;TZID=America/New_York:20230511T190000
DTEND;TZID=America/New_York:20230511T210000
END:VEVENT
END:VCALENDAR
