BEGIN:VCALENDAR
PRODID:-//eluceo/ical//2.0/EN
VERSION:2.0
CALSCALE:GREGORIAN
BEGIN:VEVENT
UID:4d1cb6948c34ea1415e8f4a786197866
DTSTAMP:20260423T004433Z
SUMMARY:Etz Hayim Presents The Cohen Center for Holocaust and Genocide Stud
 ies
DESCRIPTION:Jewish Federation of New Hampshire\nCommunity Calendar\nhttps:/
 /jewishnh.org/community-calendar/the-cohen-center-for-holocaust-and-genoci
 de-studies-1696079306\n\nThe Cohen Center for Holocaust and Genocide Studi
 es\, by Dr. Kate DeConinck\, Director.  Kate will talk about the Cohen Cen
 ter which is marking its 40th anniversary. Based out of Keene State Colleg
 e in New Hampshire\, the Center’s motto is “To Remember…and to Teach
 .” The Center serves as a research and resource center for the teaching 
 of the Holocaust and genocide\, including supporting educators at the elem
 entary\, middle school\, and high school levels.\n\nThere is no charge\, b
 ut...
DTSTART;TZID=America/New_York:20231012T190000
DTEND;TZID=America/New_York:20231012T200000
END:VEVENT
END:VCALENDAR
