BEGIN:VCALENDAR
PRODID:-//eluceo/ical//2.0/EN
VERSION:2.0
CALSCALE:GREGORIAN
BEGIN:VEVENT
UID:6c04569d8123c819ac849c34beb9b812
DTSTAMP:20260423T021831Z
SUMMARY:The Conflict in Israel: Terms\, Timelines\, Maps
DESCRIPTION:Jewish Federation of New Hampshire\nCommunity Calendar\nhttps:/
 /jewishnh.org/community-calendar/the-conflict-in-israel-terms-timelines-ma
 ps-1698676931\n\nLooking for a basic orientation to the Israel-Arab confli
 ct? Learn and ask questions about the terms\, timelines\, and maps of the 
 Israel-Arab conflict in modern times. We won't answer the big "why" questi
 ons in this session. The session will be led by Rabbi Jon Spira-Savett and
  will be multi-access\, at the Temple and on Zoom (go to tbanashua.org for
  the link).
DTSTART;TZID=America/New_York:20231102T181500
DTEND;TZID=America/New_York:20231102T193000
END:VEVENT
END:VCALENDAR
