BEGIN:VCALENDAR
PRODID:-//eluceo/ical//2.0/EN
VERSION:2.0
CALSCALE:GREGORIAN
BEGIN:VEVENT
UID:82f74b28c671b299f5ef3b5c4450bf6c
DTSTAMP:20260424T031027Z
SUMMARY:The EbIke\, Blazing Great Fun\, Adventure and Mobility in your futu
 re
DESCRIPTION:Jewish Federation of New Hampshire\nCommunity Calendar\nhttps:/
 /jewishnh.org/community-calendar/the-ebike-blazing-great-fun-adventure-and
 -mobility-in-your-future-1662748523\n\nSteve Hansen has been a cycling ent
 husiast since he was in high school.   He is now enjoying his second “re
 tirement” career as a Senior Service Technician for Trek Bicycle Corpora
 tion based in Nashua at Goodale’s Bike Shop.   Steve’s presentation wi
 ll be followed by an open question and answer session.  \n\nThe Southern N
 ew Hampshire Jewish Men’s Club is proud to sponsor Steve Hansen’s pres
 entation which will start off with “Schmooze Time” from 9:00 AM to 9:3
 0 AM.  Steve...
DTSTART;TZID=America/New_York:20220918T093000
DTEND;TZID=America/New_York:20220918T113000
END:VEVENT
END:VCALENDAR
