BEGIN:VCALENDAR
PRODID:-//eluceo/ical//2.0/EN
VERSION:2.0
CALSCALE:GREGORIAN
BEGIN:VEVENT
UID:3527fecae68dbb4db56193ffd1c103ed
DTSTAMP:20260423T071231Z
SUMMARY:The Emerging Next Normal
DESCRIPTION:Jewish Federation of New Hampshire\nCommunity Calendar\nhttps:/
 /jewishnh.org/community-calendar/the-emerging-next-normal-1604371367\n\nTh
 is program is part Etz Hayim Synagogue’s  Adult Continuing Education Pro
 gram\, Hot Topics and Cool Contemporary Stuff. To get the zoom link for th
 is talk\, please email office@etzhayim.org.   More information\, please co
 ntact: Stephen Soreff\, MD\, at soreffs15@aol.com or 603-895-6120   
DTSTART;TZID=America/New_York:20201122T100000
DTEND;TZID=America/New_York:20201122T120000
END:VEVENT
END:VCALENDAR
