BEGIN:VCALENDAR
PRODID:-//eluceo/ical//2.0/EN
VERSION:2.0
CALSCALE:GREGORIAN
BEGIN:VEVENT
UID:a24463ba71031e5583ecb80ef6d06a64
DTSTAMP:20260423T033814Z
SUMMARY:The Emerging Next Normal
DESCRIPTION:Jewish Federation of New Hampshire\nCommunity Calendar\nhttps:/
 /jewishnh.org/community-calendar/the-emerging-next-normal-1619367059\n\nTh
 is program is part Etz Hayim Synagogue’s Adult Continuing Education Prog
 ram\, Hot Topics and Cool Contemporary Stuff. To get the  Zoom link for th
 is talk\, please email office@etzhayim.org.   More information\, please co
 ntact: Stephen Soreff\, MD\, at soreffs15@aol.com or 603-895-6120   
DTSTART;TZID=America/New_York:20210502T100000
DTEND;TZID=America/New_York:20210502T120000
END:VEVENT
END:VCALENDAR
