BEGIN:VCALENDAR
PRODID:-//eluceo/ical//2.0/EN
VERSION:2.0
CALSCALE:GREGORIAN
BEGIN:VEVENT
UID:abe4b888d8d0375a602ad9704e439b53
DTSTAMP:20260422T033044Z
SUMMARY:The Ethics of Compromise
DESCRIPTION:Jewish Federation of New Hampshire\nCommunity Calendar\nhttps:/
 /jewishnh.org/community-calendar/the-ethics-of-compromise-1581444108\n\nTh
 is Course has 6 sessions at 2 different times. Wednesday's at 6:30 p.m. an
 d Friday's at 9:30 a.m.\n1. Wednesday\, March 4\, 2020 • 8 Adar 5780\n6:
 30 PM - 7:30 PM\nTemple Beth Abraham\n\n2. Friday\, March 6\, 2020 • 10 
 Adar 5780\n9:30 AM - 11:00 AM\nOLLI at Granite State College\n\n3. Wednesd
 ay\, March 11\, 2020 • 15 Adar 5780\n6:30 PM - 7:30 PM\nTemple Beth Abra
 ham\n\n4. Friday\, March 13\, 2020 • 17 Adar 5780\n9:30 AM - 11:00 AM\nO
 LLI at Granite State College\n\n5. Wednesday\, March 18\, 202...
DTSTART;TZID=America/New_York:20200304T183000
DTEND;TZID=America/New_York:20200304T193000
END:VEVENT
END:VCALENDAR
