BEGIN:VCALENDAR
PRODID:-//eluceo/ical//2.0/EN
VERSION:2.0
CALSCALE:GREGORIAN
BEGIN:VEVENT
UID:87404975b00eb8005aa7b39ca58322c7
DTSTAMP:20260422T210221Z
SUMMARY:“The Experience of being a Muslim American”
DESCRIPTION:Jewish Federation of New Hampshire\nCommunity Calendar\nhttps:/
 /jewishnh.org/community-calendar/the-experience-of-being-a-muslin-american
 -1574728176\n\nAhmed Tahoun a realtor in Manchester\, NH. He will discuss 
 what he has encounter as a practicing Muslim since immigrating from Egypt
  to the United States. He will talk about his family’s reaction to 9-11.
DTSTART;TZID=America/New_York:20200305T190000
DTEND;TZID=America/New_York:20200305T203000
END:VEVENT
END:VCALENDAR
