BEGIN:VCALENDAR
PRODID:-//eluceo/ical//2.0/EN
VERSION:2.0
CALSCALE:GREGORIAN
BEGIN:VEVENT
UID:2ca5c138d66a5c3ffc8d14b2d7d6bd58
DTSTAMP:20260423T074527Z
SUMMARY:The Future of Work and Play Revisited
DESCRIPTION:Jewish Federation of New Hampshire\nCommunity Calendar\nhttps:/
 /jewishnh.org/community-calendar/the-future-of-work-and-play-revisited-167
 2595825\n\nKurtzman is a market intelligence analyst\, an adjunct educator
 \, and the Research Director\, at IDC. He presented this talk in February 
 2020. Now he will show how technology has changed and continue to change\,
  effectively changing how we communicate\, learn\, work and play. This wil
 l affect how we create better (or at least new) consumer and employee expe
 riences\, altering the way companies and organizations hire\, and how cust
 omers select what and where they buy. Special attention will be paid to ..
 .
DTSTART;TZID=America/New_York:20230209T190000
DTEND;TZID=America/New_York:20230209T210000
END:VEVENT
END:VCALENDAR
