BEGIN:VCALENDAR
PRODID:-//eluceo/ical//2.0/EN
VERSION:2.0
CALSCALE:GREGORIAN
BEGIN:VEVENT
UID:ae6068ee139c0ce58381fd4666c9fcd3
DTSTAMP:20260423T103227Z
SUMMARY:The Ganse  Megillah: 5781 A Purim Spiel Etz Hayim
DESCRIPTION:Jewish Federation of New Hampshire\nCommunity Calendar\nhttps:/
 /jewishnh.org/community-calendar/the-ganse--megillah-5781-a-purim-spiel-et
 z-hayim-1613955224\n\nPurim calls for a celebration and a spiel. And that 
 is what the Home-in-tash Production crew is doing.  They are answering it 
 with on Saturday night\, February 27\, 2021 at 7 PM via Zoom with presenta
 tion and world premiere performance of  The Ganse  Megillah: 5781
DTSTART;TZID=America/New_York:20210227T190000
DTEND;TZID=America/New_York:20210227T210000
END:VEVENT
END:VCALENDAR
