BEGIN:VCALENDAR
PRODID:-//eluceo/ical//2.0/EN
VERSION:2.0
CALSCALE:GREGORIAN
BEGIN:VEVENT
UID:a972fe76445cec25615228d3a8a904e6
DTSTAMP:20260422T171422Z
SUMMARY:The History of Jewish Ceremonial Objects at Temple Beth Abraham
DESCRIPTION:Jewish Federation of New Hampshire\nCommunity Calendar\nhttps:/
 /jewishnh.org/community-calendar/the-history-of-jewish-ceremonial-objects-
 at-temple-beth-abraham-1675092962\n\nFor some\, Jewish ceremonial objects 
 are an essential part of life's rituals\, while others simply like display
 ing items like a mezuza\, a menorah or a spice box for its aesthetic beaut
 y.\n\nRenowned Judaica artist and metalsmith Frann Addision will explain t
 he cultural history behind some of these ritual objects and how they evolv
 ed in different countries. Her 50-minute presentation with photographs wil
 l help you connect to a rich Jewish heritage where rituals are celebrated 
 around family and t...
DTSTART;TZID=America/New_York:20230312T103000
DTEND;TZID=America/New_York:20230312T123000
END:VEVENT
END:VCALENDAR
