BEGIN:VCALENDAR
PRODID:-//eluceo/ical//2.0/EN
VERSION:2.0
CALSCALE:GREGORIAN
BEGIN:VEVENT
UID:16184cfb83d3372f4b17db5c99eed702
DTSTAMP:20260422T230803Z
SUMMARY:The Home Depot GRAGER Workshop\, and Purim Celebration
DESCRIPTION:Jewish Federation of New Hampshire\nCommunity Calendar\nhttps:/
 /jewishnh.org/community-calendar/the-home-depot-grager-workshop-and-purim-
 celebration\n\nThe Seacoast Jewish Center and The Hebrew School of the Art
 s invite you to:\n\nThe Home Depot GRAGER Workshop\, and Purim Celebration
 \nThursday\, March 17th\, 4:30pm\nAt the Seacoast Jewish Center\n\nBuild a
 nd paint your own grager for Purim\, hear the Megillah with a video presen
 tation\, enjoy pizza & purim treats\, face painting\, and much more!\n\nFr
 ee Admission! Bring your children and grandchildren in costumes. This is f
 un for the whole family!\n\nRegister at Jewishseacoast.com/Grager
DTSTART;TZID=America/New_York:20220317T163000
DTEND;TZID=America/New_York:20220317T173000
END:VEVENT
END:VCALENDAR
