BEGIN:VCALENDAR
PRODID:-//eluceo/ical//2.0/EN
VERSION:2.0
CALSCALE:GREGORIAN
BEGIN:VEVENT
UID:a42cd21fe99b45c80e676fc412e1be28
DTSTAMP:20260422T202132Z
SUMMARY:The Human Problem of Genocide
DESCRIPTION:Jewish Federation of New Hampshire\nCommunity Calendar\nhttps:/
 /jewishnh.org/community-calendar/the-human-problem-of-genocide\n\nWhat is 
 required to recognize\, deter and prevent genocide? What is genocide? When
  do processes become part of a genocide momentum? How do we prevent the es
 calation? How do we identify moments in the process where intervention (an
 y type) can change the momentum? What can we do to make a difference? We w
 ill discuss the U.N. Genocide definition\; genocide risk factors and warni
 ng signs. We will explore proactive and reactive responses. We will also w
 restle with the tension between the moral imper...
DTSTART;TZID=America/New_York:20200317T180000
DTEND;TZID=America/New_York:20200317T200000
END:VEVENT
END:VCALENDAR
