BEGIN:VCALENDAR
PRODID:-//eluceo/ical//2.0/EN
VERSION:2.0
CALSCALE:GREGORIAN
BEGIN:VEVENT
UID:8c9efadef3429aa9cbccf7150e6960e6
DTSTAMP:20260423T090728Z
SUMMARY:The Immigrant New Hampshire Experience: A Talk at Etz Hayim Synagog
 ue
DESCRIPTION:Jewish Federation of New Hampshire\nCommunity Calendar\nhttps:/
 /jewishnh.org/community-calendar/the-immigrant-new-hampshire-experience-a-
 talk-at-etz-hayim-synagogue-1703612959\n\nBecky Field will talk about her 
 book Finding Home: Portraits and Memories on Thursday\, February 8\, 2024\
 , at Etz Hayim  Synagogue.   She will be joined by a New Hampshire immigra
 nt\, who will describe the coming-to-America experience. Her book\, Findin
 g Home is a celebration of people from other countries who have resettled 
 in New Hampshire\, a state known for low cultural diversity. Photographer 
 Becky Field has been documenting cultural diversity in the state since 201
 2. Now\, in addition to...
DTSTART;TZID=America/New_York:20240208T190000
DTEND;TZID=America/New_York:20240208T210000
END:VEVENT
END:VCALENDAR
