BEGIN:VCALENDAR
PRODID:-//eluceo/ical//2.0/EN
VERSION:2.0
CALSCALE:GREGORIAN
BEGIN:VEVENT
UID:904d33c5886d198384f4035b3a26f592
DTSTAMP:20260423T073220Z
SUMMARY:The Impact of the COVID Pandemic on Mental Health
DESCRIPTION:Jewish Federation of New Hampshire\nCommunity Calendar\nhttps:/
 /jewishnh.org/community-calendar/the-impact-of-the-covid-pandemic-on-menta
 l-health-1610314823\n\n“The Impact of the COVID Pandemic on Mental Healt
 h\,” will be the topic discussed by Robert Feder\, MD\, on Sunday\, Febr
 uary 7\, at 9:30 AM\, LIVE via ZOOM presented by the Southern New Hampshir
 e Jewish Men’s Club. Dr. Feder will discuss the COVID Pandemic and its e
 ffect on our Mental Health and offer some suggestions on how potential cop
 ing mechanisms may help to reduce the impact of the added stress and anxie
 ty that is affecting our community at this trying time. Dr. Feder’s pres
 entation...
DTSTART;TZID=America/New_York:20210207T093000
DTEND;TZID=America/New_York:20210207T113000
END:VEVENT
END:VCALENDAR
