BEGIN:VCALENDAR
PRODID:-//eluceo/ical//2.0/EN
VERSION:2.0
CALSCALE:GREGORIAN
BEGIN:VEVENT
UID:92c3195993d411433514e8a37801fdfa
DTSTAMP:20260423T002326Z
SUMMARY:The Israeli-Hamas War\, Rising Antisemitism\, and This Challenging 
 Time
DESCRIPTION:Jewish Federation of New Hampshire\nCommunity Calendar\nhttps:/
 /jewishnh.org/community-calendar/the-israeli-hamas-war-rising-antisemitism
 \n\nTemple Beth Jacob’s Shapiro Lecture Series presents\nDr. Yehuda Kurt
 zer:\nThe Israeli-Hamas War\, Rising Antisemitism\, and This Challenging T
 ime for Jews and the Jewish Community\n\nWednesday • January 24\, 2024 
 • 7:00 pm • Zoom\n\nDr. Yehuda Kurtzer is president of the Shalom Hart
 man Institute. Yehuda is a leading thinker and author on\, among other top
 ics\, Jewish history and Jewish memory. Recently\, Yehuda authored “Tora
 h for a Time of War: A Moral Map for an Impossible Present\,” w...
DTSTART;TZID=America/New_York:20240124T190000
DTEND;TZID=America/New_York:20240124T203000
END:VEVENT
END:VCALENDAR
