BEGIN:VCALENDAR
PRODID:-//eluceo/ical//2.0/EN
VERSION:2.0
CALSCALE:GREGORIAN
BEGIN:VEVENT
UID:84a129d5fb1e9f9121bc622435b61237
DTSTAMP:20260423T143451Z
SUMMARY:The "Israeli Shuffle”
DESCRIPTION:Jewish Federation of New Hampshire\nCommunity Calendar\nhttps:/
 /jewishnh.org/community-calendar/the-israeli-shuffle-1712530878\n\nGuy Ben
  David\,  the Jewish Federation NH  Shaliach\, will present an Israeli Mus
 ic program called "Israeli Shuffle" on Thursday\, April 11\, 2024 7 PM  at
  Etz Hayim  Synagogue.  Guy is a terrific singer and guitar player as well
  as a great Israel Ambassador.
DTSTART;TZID=America/New_York:20240411T190000
DTEND;TZID=America/New_York:20240411T210000
END:VEVENT
END:VCALENDAR
