BEGIN:VCALENDAR
PRODID:-//eluceo/ical//2.0/EN
VERSION:2.0
CALSCALE:GREGORIAN
BEGIN:VEVENT
UID:2dc593a57c08858863335bb3d0792a04
DTSTAMP:20260423T002844Z
SUMMARY:The Jersey Tenors
DESCRIPTION:Jewish Federation of New Hampshire\nCommunity Calendar\nhttps:/
 /jewishnh.org/community-calendar/the-jersey-tenors-1692647152\n\nSaturday\
 , October 28 at 7:30pm\, the Jersey Tenors return to Interlakes Community 
 Auditorium. Tickets are $40 per person for general admission seating.  Go 
 to www.tbinh.org for tickets and more information.
DTSTART;TZID=America/New_York:20231028T193000
DTEND;TZID=America/New_York:20231028T220000
END:VEVENT
END:VCALENDAR
