BEGIN:VCALENDAR
PRODID:-//eluceo/ical//2.0/EN
VERSION:2.0
CALSCALE:GREGORIAN
BEGIN:VEVENT
UID:e00187aa14e5607d0b9be1989739d271
DTSTAMP:20260422T183634Z
SUMMARY:The Jewish Cemetery in the United States: A Path Toward Americaniza
 tion
DESCRIPTION:Jewish Federation of New Hampshire\nCommunity Calendar\nhttps:/
 /jewishnh.org/community-calendar/the-jewish-cemetery-in-the-united-states-
 a-path-toward-americanization-1681150462\n\nRabbi Joshua L. Segal\, will s
 peak about the evolution of cemetery history in the American Jewish commun
 ity has been driven by two forces: changes in the cemetery and burial prac
 tices in America\, and the gradual acculturation of American Jews. These f
 orces have exerted more influence than either Jewish customs (min-hag) or 
 Jewish law (Halakhah). The first Jewish cemeteries in America followed a p
 attern of evolution similar to that in non-Jewish cemeteries. Backyard bur
 ials were replaced by...
DTSTART;TZID=America/New_York:20230608T190000
DTEND;TZID=America/New_York:20230608T210000
END:VEVENT
END:VCALENDAR
