BEGIN:VCALENDAR
PRODID:-//eluceo/ical//2.0/EN
VERSION:2.0
CALSCALE:GREGORIAN
BEGIN:VEVENT
UID:d0bca190d6186b562921993d31ec40e1
DTSTAMP:20260422T053135Z
SUMMARY:The Keeper- New Hampshire Jewish Film Festival
DESCRIPTION:Jewish Federation of New Hampshire\nCommunity Calendar\nhttps:/
 /jewishnh.org/community-calendar/the-keeper--new-hampshire-jewish-film-fes
 tival-1581460531\n\nThe Keeper\nNew Hampshire Premiere\nSunday\, March 29\
 , 2020\, 1:00 PM\nRed River Theatres\n\nAdmission $12.00\n\nDirector: Marc
 us H. Hosenmüller\nDrama\, 2019\, United Kingdom\n113 minutes\nEnglish\nC
 ontent Warning: Adult Content\n\nThe incredible true story of Bert Trautma
 nn\, a German soldier and prisoner of war who\, amid British post-war prot
 est and prejudice\, is hired as goalkeeper at Manchester City and so becom
 es a footballing icon. His signing outrages thousands of fans\, many of th
 em Jewis...
DTSTART;TZID=America/New_York:20200329T130000
DTEND;TZID=America/New_York:20200329T150000
END:VEVENT
END:VCALENDAR
