BEGIN:VCALENDAR
PRODID:-//eluceo/ical//2.0/EN
VERSION:2.0
CALSCALE:GREGORIAN
BEGIN:VEVENT
UID:ccc5726ba7c746571ef06526c4925eca
DTSTAMP:20260421T214624Z
SUMMARY:The Lost Baker of Vienna: A New Hampshire Book Tour - Keene
DESCRIPTION:Jewish Federation of New Hampshire\nCommunity Calendar\nhttps:/
 /jewishnh.org/community-calendar/the-lost-baker-of-vienna-a-new-hampshire-
 book-tour-keene\n\nJoin us at one of three opportunities to meet author Sh
 aron Kutzman and discuss her book The Lost Baker of Vienna. \n\nThursday
 \, January 8 – Keene\, NH\n5:00 PM – Reading\, Q&A\, and signing at To
 adstool Bookshop\,  12 Emerald St\, Keene\, NH\nEvent cosponsored by Con
 gregation Ahavas Achim\n\nFriday\, January 9 – Manchester\, NH\n12:30 PM
  – Event at The Bookery\, 844 Elm St\, Manchester\, NH\nCosponsored by 
 Temple Israel Manchester\n\nSaturday\, January 10 – Nashua\, NH\nKiddush
  Shabbat Lun...
DTSTART;TZID=America/New_York:20260108T170000
DTEND;TZID=America/New_York:20260108T180000
END:VEVENT
END:VCALENDAR
