BEGIN:VCALENDAR
PRODID:-//eluceo/ical//2.0/EN
VERSION:2.0
CALSCALE:GREGORIAN
BEGIN:VEVENT
UID:8e67ab06a8e8446cb9032295de622674
DTSTAMP:20260422T082840Z
SUMMARY:The Lost Baker of Vienna: A New Hampshire Book Tour - Manchester
DESCRIPTION:Jewish Federation of New Hampshire\nCommunity Calendar\nhttps:/
 /jewishnh.org/community-calendar/the-lost-baker-of-vienna-a-new-hampshire-
 book-tour-manchester\n\nJoin us at one of three opportunities to meet auth
 or Sharon Kutzman and discuss her book The Lost Baker of Vienna. \n\nThu
 rsday\, January 8 – Keene\, NH\n5:00 PM – Reading\, Q&A\, and signing 
 at Toadstool Bookshop\,  12 Emerald St\, Keene\, NH\nEvent cosponsored b
 y Congregation Ahavas Achim\n\nFriday\, January 9 – Manchester\, NH\n12:
 30 PM – Event at The Bookery\, 844 Elm St\, Manchester\, NH\nCosponsore
 d by Temple Israel Manchester\n\nSaturday\, January 10 – Nashua\, NH\nKi
 ddush Shabbat L...
DTSTART;TZID=America/New_York:20260109T123000
DTEND;TZID=America/New_York:20260109T133000
END:VEVENT
END:VCALENDAR
