BEGIN:VCALENDAR
PRODID:-//eluceo/ical//2.0/EN
VERSION:2.0
CALSCALE:GREGORIAN
BEGIN:VEVENT
UID:be48ae7dabade5f9fabc4d869f0c3c61
DTSTAMP:20260423T103818Z
SUMMARY:"The Marriage Box" Author Talk
DESCRIPTION:Jewish Federation of New Hampshire\nCommunity Calendar\nhttps:/
 /jewishnh.org/community-calendar/the-marriage-box-author-talk-1708357029\n
 \nBook talk with Corie Adjmi\, author of The Marriage Box. Forced to retur
 n to her parents’ roots in the Orthodox Syrian Jewish community in Brook
 lyn\, Casey Cohen faces two opposing worlds as she explores the unfamiliar
  culture and finds love. This program is free\, and everyone is welcome. F
 or more information\, contact Sharon Wyner at 978-565-4450 or email swyner
 @lappinfoundation.org.\n\nREGISTER at https://lappinfoundation.tfaforms.ne
 t/54
DTSTART;TZID=America/New_York:20240226T193000
DTEND;TZID=America/New_York:20240226T203000
END:VEVENT
END:VCALENDAR
