BEGIN:VCALENDAR
PRODID:-//eluceo/ical//2.0/EN
VERSION:2.0
CALSCALE:GREGORIAN
BEGIN:VEVENT
UID:aceef7e4a0416f2bf5b77410d3571332
DTSTAMP:20260424T002422Z
SUMMARY:The Marva Experience
DESCRIPTION:Jewish Federation of New Hampshire\nCommunity Calendar\nhttps:/
 /jewishnh.org/community-calendar/the-marva-experience\n\nThe Jewish Federa
 tion of NH's Israel Education and Engagement Committee present: The Marva 
 Experience - a Zoom presentation.\n\nMarva is a unique 8 week opportunity
  for young Jews in the diaspora to experience the beauty and challenges of
  Israel through the eyes of the IDF.\n\nThis program will be presented by 
 Anna Straus a past participant of the Marva program.\n\nRegistration is re
 quired for the Zoom link
DTSTART;TZID=America/New_York:20230810T190000
DTEND;TZID=America/New_York:20230810T210000
END:VEVENT
END:VCALENDAR
