BEGIN:VCALENDAR
PRODID:-//eluceo/ical//2.0/EN
VERSION:2.0
CALSCALE:GREGORIAN
BEGIN:VEVENT
UID:0352da159865353cd89e8331e94397b7
DTSTAMP:20260422T050516Z
SUMMARY:The Midrash and Moses
DESCRIPTION:Jewish Federation of New Hampshire\nCommunity Calendar\nhttps:/
 /jewishnh.org/community-calendar/the-midrash-and-moses-1648156540\n\n     
        The Midrash and Moses presented by  Rabbi Peter Levy Thursday\, Apr
 il 14\, 2022\, 7 PM in person at Etz Hayim Synagogue\, 1 ½ Hood Road\, De
 rry\, NH 03038.   Just in time for Passover\, Rabbi Levy will  talk about 
 this fascinating subject. As the Rabbi says\, “If you think you have que
 stions about the life of Moses\, then you are not alone. We will explore t
 he midrash that will bring new insights and understandings into a very cri
 tical and complex time in the evolution of our people....
DTSTART;TZID=America/New_York:20220414T190000
DTEND;TZID=America/New_York:20220414T210000
END:VEVENT
END:VCALENDAR
