BEGIN:VCALENDAR
PRODID:-//eluceo/ical//2.0/EN
VERSION:2.0
CALSCALE:GREGORIAN
BEGIN:VEVENT
UID:c8181816f19d6ce4a399d27d4a0925de
DTSTAMP:20260422T112211Z
SUMMARY:Seacoast Chabad - The New Hampshire Jewish  Festival
DESCRIPTION:Jewish Federation of New Hampshire\nCommunity Calendar\nhttps:/
 /jewishnh.org/community-calendar/the-new-hampshire-jewish--festival-168814
 4792\n\nJoin us for an extraordinary event: The Second Annual Jewish Festi
 val in the State of New Hampshire! \n\nExperience a vibrant celebration o
 f Jewish life and culture right on the grounds of the New Jewish Community
  Center. Save the date: July 30th from 12-4 pm\, as this is an event you w
 on't want to miss!\n\nSecure your spot now at www.TheJewishFestival.com\, 
 as registration is required for this sensational experience!\n\nPrepare to
  be captivated by a mesmerizing concert featuring the world-ren...
DTSTART;TZID=America/New_York:20230730T120000
DTEND;TZID=America/New_York:20230730T160000
END:VEVENT
END:VCALENDAR
