BEGIN:VCALENDAR
PRODID:-//eluceo/ical//2.0/EN
VERSION:2.0
CALSCALE:GREGORIAN
BEGIN:VEVENT
UID:ece4207f8922fb194a8b8c44e2d965a1
DTSTAMP:20260424T180843Z
SUMMARY:The Pad Project
DESCRIPTION:Jewish Federation of New Hampshire\nCommunity Calendar\nhttps:/
 /jewishnh.org/community-calendar/the-pad-project-1670413068\n\nDid you kno
 w that for some girls\, having a period means staying home from school due
  to lack of protection?  We can change that!
DTSTART;TZID=America/New_York:20221207T075500
DTEND;TZID=America/New_York:20221229T140000
END:VEVENT
END:VCALENDAR
