BEGIN:VCALENDAR
PRODID:-//eluceo/ical//2.0/EN
VERSION:2.0
CALSCALE:GREGORIAN
BEGIN:VEVENT
UID:070d6ac3105e79ff25097c6a85860a5a
DTSTAMP:20260422T192705Z
SUMMARY:The Powers that Bind: Women in the Family Circle a zoom talk
DESCRIPTION:Jewish Federation of New Hampshire\nCommunity Calendar\nhttps:/
 /jewishnh.org/community-calendar/the-powers-that-bind-women-in-the-family-
 circle-a-zoom-talk-1591651219\n\nTopic: hot topics - noreen leibson\nTime:
  Jun 18\, 2020 07:00 PM Eastern Time (US and Canada)\n\n\nhttps://zoom.us/
 j/94104637729?pwd=MTZNZTZKZ0VrUnRrV1BMSjZadC91dz09\n\nMeeting ID: 941 0463
  7729\nPassword: 269652\n
DTSTART;TZID=America/New_York:20200618T190000
DTEND;TZID=America/New_York:20200618T203000
END:VEVENT
END:VCALENDAR
