BEGIN:VCALENDAR
PRODID:-//eluceo/ical//2.0/EN
VERSION:2.0
CALSCALE:GREGORIAN
BEGIN:VEVENT
UID:3f82d739583fbeb3d10bbb01f4d3edb5
DTSTAMP:20260424T042700Z
SUMMARY:The Sarajevo Haggadah\, composed & performed by Merima Kljuco
DESCRIPTION:Jewish Federation of New Hampshire\nCommunity Calendar\nhttps:/
 /jewishnh.org/community-calendar/the-sarajevo-haggadah-composed--performed
 -by-merima-kljuco-1570555928\n\nElectric Earth Concerts presents The Saraj
 evo Haggadah: Music of the Book\, on Friday\, November 1\, 2019\, at 7:30 
 p.m. at the First Church in Jaffrey Center\, New Hampshire. Tickets are $3
 0\, and are available online at http://electricearthconcerts.org  or at th
 e door.  All students  (college students\, please bring ID) are welcome to
  attend for free.  \n\nHon. Patti Whelan will deliver a brief talk re her 
 5 years serving on International Tribunal at Sarajevo 2007-2012. She is a 
 2019 recipient of...
DTSTART;TZID=America/New_York:20191101T193000
DTEND;TZID=America/New_York:20191101T213000
END:VEVENT
END:VCALENDAR
