BEGIN:VCALENDAR
PRODID:-//eluceo/ical//2.0/EN
VERSION:2.0
CALSCALE:GREGORIAN
BEGIN:VEVENT
UID:37a812942a3c7202293d4afc47e12a27
DTSTAMP:20260422T044413Z
SUMMARY:CANCELLED: The Seacoast Jewish Center Presents: Mommy & Me Chanukah
  Edition
DESCRIPTION:Jewish Federation of New Hampshire\nCommunity Calendar\nhttps:/
 /jewishnh.org/community-calendar/the-seacoast-jewish-center-presents\n\nTH
 IS EVENT HAS BEEN CANCELLED. \n\n\nThe Seacoast Jewish Center presents:\n
 \nMommy & Me\, Chanukah Edition\n\nin collaboration with PJ Library.\n\nJo
 in us for circle time\, stories\, songs and a craft project. Snack will be
  provided. Masks not required.\n\nFor more info or to RSVP call Rochy: 603
 -205-6597 or visit JewishSeacoast.com/MommyAndMe
DTSTART;TZID=America/New_York:20221216T103000
DTEND;TZID=America/New_York:20221216T113000
END:VEVENT
END:VCALENDAR
