BEGIN:VCALENDAR
PRODID:-//eluceo/ical//2.0/EN
VERSION:2.0
CALSCALE:GREGORIAN
BEGIN:VEVENT
UID:67ef6be9258bd1402bc7f6aa2e458530
DTSTAMP:20260422T175928Z
SUMMARY:The Secret Life of Emotions- Wine and Cheese
DESCRIPTION:Jewish Federation of New Hampshire\nCommunity Calendar\nhttps:/
 /jewishnh.org/community-calendar/the-secret-life-of-emotions--wine-and-che
 ese-1669654589\n\nChabad of NH invites you to an evening of wine\, cheese 
 and discovery with Rabbi Dr. Laibl Wolf.\nThe Secret Life of Emotions- Is 
 love always right? Is hate always wrong? Is indifference a cop-out?\n\nRab
 bi Dr. Laibl Wolf LL.B M.Ed.Psych. D.Div.\n\nRabbi Wolf is an unusual expo
 nent of ancient wisdoms and cutting-edge psychology. He is internationally
  renowned as a highly erudite lecturer and the celebrated author of the be
 st-selling ‘Practical Kabbala’ (Random House). A graduate of Law and..
 .
DTSTART;TZID=America/New_York:20230122T190000
DTEND;TZID=America/New_York:20230122T210000
END:VEVENT
END:VCALENDAR
