BEGIN:VCALENDAR
PRODID:-//eluceo/ical//2.0/EN
VERSION:2.0
CALSCALE:GREGORIAN
BEGIN:VEVENT
UID:3d19fbfd9b65e49756afb331b5daa3bb
DTSTAMP:20260424T020845Z
SUMMARY:The State of Hate in New Hampshire presented by the ADL
DESCRIPTION:Jewish Federation of New Hampshire\nCommunity Calendar\nhttps:/
 /jewishnh.org/community-calendar/the-state-of-hate-in-new-hampshire-presen
 ted-by-the-adl\n\nJoin the Jewish Federation of New Hampshire for an eye-o
 pening presentation by ADL New England's Senior Associate Regional Directo
 r\, Peggy Shukur. Peggy will discuss the state of hate in New Hampshire an
 d how\ncommunities can come together to respond to hate after bias inciden
 ts occur.\n\n 
DTSTART;TZID=America/New_York:20200105T150000
DTEND;TZID=America/New_York:20200105T170000
END:VEVENT
END:VCALENDAR
