BEGIN:VCALENDAR
PRODID:-//eluceo/ical//2.0/EN
VERSION:2.0
CALSCALE:GREGORIAN
BEGIN:VEVENT
UID:4502f8a3383fab8fda876d3e38c55889
DTSTAMP:20260423T204708Z
SUMMARY:“The Stories behind the Badges”
DESCRIPTION:Jewish Federation of New Hampshire\nCommunity Calendar\nhttps:/
 /jewishnh.org/community-calendar/the-stories-behind-the-badges-1572996490\
 n\nAustin Goodman\, Manchester Police Officer\, Stephen Landau\, Retired F
 BI and Charles Walsh\,  Retired FBI present the real back stories of their
  work on Sunday November 17\, 2019 10 -11:30 AM  at Etz Hayim Synagogue\, 
 1 ½ Hood Road\, Derry\, NH 03038.  Their talk will include  talk about th
 e apprehension of Unabomber (Ted Kaczynski)\, security at the trial  for t
 he Oklahoma  City bombing \, and the armed car robbery in Hudson\, NH. Thi
 s presentation is part of  Etz Hayim Synagogue’s Continuing...
DTSTART;TZID=America/New_York:20191117T100000
DTEND;TZID=America/New_York:20191117T113000
END:VEVENT
END:VCALENDAR
