BEGIN:VCALENDAR
PRODID:-//eluceo/ical//2.0/EN
VERSION:2.0
CALSCALE:GREGORIAN
BEGIN:VEVENT
UID:a8f1f4df1c300cbf71db755d05c8b423
DTSTAMP:20260422T201516Z
SUMMARY:SNHJMC Presents The Swindling Seductress
DESCRIPTION:Jewish Federation of New Hampshire\nCommunity Calendar\nhttps:/
 /jewishnh.org/community-calendar/the-swindling-seductress-1640644330\n\nMa
 rk’s presentation will be followed by an open question and answer sessio
 n.
DTSTART;TZID=America/New_York:20220109T093000
DTEND;TZID=America/New_York:20220109T113000
END:VEVENT
END:VCALENDAR
