BEGIN:VCALENDAR
PRODID:-//eluceo/ical//2.0/EN
VERSION:2.0
CALSCALE:GREGORIAN
BEGIN:VEVENT
UID:a4b9bd3483241920cc65aab7635b9200
DTSTAMP:20260423T005311Z
SUMMARY:The U.S. and the Holocaust: An Evening with Ken Burns
DESCRIPTION:Jewish Federation of New Hampshire\nCommunity Calendar\nhttps:/
 /jewishnh.org/community-calendar/the-us-and-the-holocaust-an-evening-with-
 ken-burns-1661976724\n\nJoin GBH and Boston Symphony Orchestra for a conve
 rsation with Ken Burns\, Lynn Novick and Sarah Botstein on their latest fi
 lm\, The U.S. and the Holocaust. This three-part documentary explores Amer
 ica’s response to one of the greatest atrocities of the 20th century. In
 spired and informed by the United States Holocaust Memorial Museum’s exh
 ibit “Americans and the Holocaust\,” the film examines the rise of Hit
 ler and Nazism in Germany in the context of global antisemitism and racism
 \, the ...
DTSTART;TZID=America/New_York:20220912T193000
DTEND;TZID=America/New_York:20220912T210000
END:VEVENT
END:VCALENDAR
