BEGIN:VCALENDAR
PRODID:-//eluceo/ical//2.0/EN
VERSION:2.0
CALSCALE:GREGORIAN
BEGIN:VEVENT
UID:eb9f4423dbdd9610af11ce929e7c1b3f
DTSTAMP:20260424T143015Z
SUMMARY:"The Work of Our Hands" Art Exhibit reception
DESCRIPTION:Jewish Federation of New Hampshire\nCommunity Calendar\nhttps:/
 /jewishnh.org/community-calendar/the-work-of-our-hands-art-exhibit-recepti
 on-1576002908\n\nArt opening and reception for "The Work of our Hands.” 
 This exhibit emphasizes how artists use their craft to bring awareness to 
 protecting the environment\, including re-purposing materials in creative 
 ways. Contributors include Suzanne Petty\, artist and tapestry maker\, Ber
 ri Kaplan\, with collage and Japanese fabric tapestry\, and quilter Heathe
 r Tomlinson.
DTSTART;TZID=America/New_York:20190105T130000
DTEND;TZID=America/New_York:20190105T140000
END:VEVENT
END:VCALENDAR
