BEGIN:VCALENDAR
PRODID:-//eluceo/ical//2.0/EN
VERSION:2.0
CALSCALE:GREGORIAN
BEGIN:VEVENT
UID:53ea4635ba0a6c45d1168611d4cb90d6
DTSTAMP:20260422T123903Z
SUMMARY:Through Women’s Eyes: Antisemitism in America
DESCRIPTION:Jewish Federation of New Hampshire\nCommunity Calendar\nhttps:/
 /jewishnh.org/community-calendar/through-womens-eyes-antisemitism-in-ameri
 ca-1708357602\n\nWith antisemitism rising today at home and abroad\, award
 -winning author Professor Pamela Nadell of American University\, discusses
  American Jewish women in the past facing antisemitism\, how it affected t
 heir lives\, and how they responded. The recording will be available to ev
 eryone who registers for the program. For more information\, contact Sharo
 n Wyner at 978-565-4450 or email swyner@lappinfoundation.org. The program 
 is free\, and everyone is welcome.\n\nREGISTER at https://lappinfoundation
 .t...
DTSTART;TZID=America/New_York:20240314T193000
DTEND;TZID=America/New_York:20240314T203000
END:VEVENT
END:VCALENDAR
