BEGIN:VCALENDAR
PRODID:-//eluceo/ical//2.0/EN
VERSION:2.0
CALSCALE:GREGORIAN
BEGIN:VEVENT
UID:7e7096766b4921006ee69f1af67241b6
DTSTAMP:20260422T124209Z
SUMMARY:TI and TAY Joint Book Clubs discussion of "Ari's Spoon"
DESCRIPTION:Jewish Federation of New Hampshire\nCommunity Calendar\nhttps:/
 /jewishnh.org/community-calendar/ti-and-tay-joint-book-clubs-discussion-of
 -aris-spoon-1648240563\n\nAuthor Dr. Doug Zipes\, a world-renowned cardiol
 ogist who in his retirement has become a writer of some wonderful novels\,
  will be leading the discussion of his latest book\, "Ari's Spoon". Stephe
 n Singer summarizes the novel so very well: "Absolutely spellbinding histo
 rical novel dealing with both the Warsaw Ghetto uprising and contemporary 
 antisemitism. Relevant\, emotional and eye opening- highly recommended". C
 heck out "Ari's Spoon" online\, to get the book or Kindle version\,.\n\nCo
 ntact Sol R...
DTSTART;TZID=America/New_York:20220615T190000
DTEND;TZID=America/New_York:20220615T203000
END:VEVENT
END:VCALENDAR
