BEGIN:VCALENDAR
PRODID:-//eluceo/ical//2.0/EN
VERSION:2.0
CALSCALE:GREGORIAN
BEGIN:VEVENT
UID:95ac95bffad03228c5571ad50f7be1c2
DTSTAMP:20260423T034121Z
SUMMARY:TI (D) Shabbat Service with Noam Wolf  &  Kati Preston
DESCRIPTION:Jewish Federation of New Hampshire\nCommunity Calendar\nhttps:/
 /jewishnh.org/community-calendar/tid-shabbat-service-with-noam-wolf-kati-p
 reston\n\nShabbat Service with Noam Wolf: Presentation by Holocaust Surviv
 or Kati Preston\n7 PM\, Temple Israel\, Dover\n\nPlease join us as we obse
 rve Yom HaShoah with special guests Noam Wolf and Holocaust Survivor Kati 
 Preston. All welcome at no charge. More information: rabbisam@dovertemple.
 org  president@dovertemple.org or the temple office at 742-3976.
DTSTART;TZID=America/New_York:20180420T190000
DTEND;TZID=America/New_York:20180420T200000
END:VEVENT
END:VCALENDAR
