BEGIN:VCALENDAR
PRODID:-//eluceo/ical//2.0/EN
VERSION:2.0
CALSCALE:GREGORIAN
BEGIN:VEVENT
UID:cf59f39c20dfc286feec3eae75bc450d
DTSTAMP:20260422T183859Z
SUMMARY:Temple Israel Tikkun Leil Shavuot
DESCRIPTION:Jewish Federation of New Hampshire\nCommunity Calendar\nhttps:/
 /jewishnh.org/community-calendar/tikkun-leil-shavuot-1683121641\n\nCelebra
 te the first night of Shavuot at Temple Israel with a dairy dinner and the
  tradition of Tikkun Leil Shavuot\, evening study\, featuring three presen
 tations: "Give Me My Colorful Coat: A Midrash Journey about Autism" with A
 lex Hogan \, "What Really Happened at Sinai" with Rabbi Gary Atkins\, and 
 Jewish Papercutting with Jen Beard. The evening will begin with a short fe
 stival service led by Cantor Marc Stober. Interesting for all ages! RSVP r
 equested by May 19 at: https://bit.ly/TIShavuot23
DTSTART;TZID=America/New_York:20230525T180000
DTEND;TZID=America/New_York:20230525T200000
END:VEVENT
END:VCALENDAR
