BEGIN:VCALENDAR
PRODID:-//eluceo/ical//2.0/EN
VERSION:2.0
CALSCALE:GREGORIAN
BEGIN:VEVENT
UID:74c77f3f7a97dacce1bd5dd0fbaf35ce
DTSTAMP:20260422T103419Z
SUMMARY:TIP Welcomes Moshe Perez
DESCRIPTION:Jewish Federation of New Hampshire\nCommunity Calendar\nhttps:/
 /jewishnh.org/community-calendar/tip-welcomes-moshe-perez-1707514482\n\nFo
 r the past 20 years\, Moshe has worked in the field of education\, special
 izing in working with teenagers with a wide range of challenges. He served
  in the IDF and in the Reserves\, in operations in south Lebanon and in Ga
 za. He recently returned from two weeks of voluntary service in the Nation
 al Search and Rescue unit of the home front command of the IDF. He is flue
 nt in Arabic\, Turkish\, and other languages. With his extensive backgroun
 d and experience\, Moshe is in a unique position to discu...
DTSTART;TZID=America/New_York:20240211T110000
DTEND;TZID=America/New_York:20240211T123000
END:VEVENT
END:VCALENDAR
