BEGIN:VCALENDAR
PRODID:-//eluceo/ical//2.0/EN
VERSION:2.0
CALSCALE:GREGORIAN
BEGIN:VEVENT
UID:70b4d8aa73ab4d8dc0da0f6f6a21f59f
DTSTAMP:20260422T025015Z
SUMMARY:Tisha B' Av Study Session and Service
DESCRIPTION:Jewish Federation of New Hampshire\nCommunity Calendar\nhttps:/
 /jewishnh.org/community-calendar/tisha-b-av-study-session-and-service\n\n7
  PM\n\nMore information: 669-5650 or Temple Adath Yeshurun
DTSTART;TZID=America/New_York:20170801T000000
DTEND;TZID=America/New_York:20170801T000000
END:VEVENT
END:VCALENDAR
