BEGIN:VCALENDAR
PRODID:-//eluceo/ical//2.0/EN
VERSION:2.0
CALSCALE:GREGORIAN
BEGIN:VEVENT
UID:50a4f770df51117e7139603281dd6314
DTSTAMP:20260423T062054Z
SUMMARY:Tish'a B'Av Services at Temple Israel
DESCRIPTION:Jewish Federation of New Hampshire\nCommunity Calendar\nhttps:/
 /jewishnh.org/community-calendar/tisha-bav-1562710866\n\nReservations are 
 not required.
DTSTART;TZID=America/New_York:20190811T090000
DTEND;TZID=America/New_York:20190811T110000
END:VEVENT
END:VCALENDAR
