BEGIN:VCALENDAR
PRODID:-//eluceo/ical//2.0/EN
VERSION:2.0
CALSCALE:GREGORIAN
BEGIN:VEVENT
UID:24240e906d924a6cbeedac909072996b
DTSTAMP:20260422T050409Z
SUMMARY:Temple  Israel Tisha B'Av
DESCRIPTION:Jewish Federation of New Hampshire\nCommunity Calendar\nhttps:/
 /jewishnh.org/community-calendar/tisha-bav-1689284960\n\nJoin Temple Israe
 l Congregants at the home of Rabbi Marc Philippe and Valerie to chant the 
 Book of Lamentations. Together\, performing this ancient sacred ritual\, w
 e will transform darkness into LIGHT.
DTSTART;TZID=America/New_York:20230726T080000
DTEND;TZID=America/New_York:20230726T100000
END:VEVENT
END:VCALENDAR
