BEGIN:VCALENDAR
PRODID:-//eluceo/ical//2.0/EN
VERSION:2.0
CALSCALE:GREGORIAN
BEGIN:VEVENT
UID:ca148c2556efe7d8f920938e6067213d
DTSTAMP:20260423T080832Z
SUMMARY:Temple Israel Tisha b'Av Gathering
DESCRIPTION:Jewish Federation of New Hampshire\nCommunity Calendar\nhttps:/
 /jewishnh.org/community-calendar/tisha-bav-gathering-1686327724\n\nPlease 
 join Temple Israel Portsmouth for a Tisha b’Av Gathering in the Temple I
 srael Courtyard (or indoors in case of rain). At Tisha b’Av\, we recall 
 the destruction of the Temple in Jerusalem and we grieve for the many loss
 es endured by the Jewish people throughout the ages. The destruction of th
 e Temple also represents a rupture between God and the people and between 
 the people and one another.\n\nRabba Kaya Stern-Kaufman will lead us in so
 ngs\, chants and readings\, including traditional...
DTSTART;TZID=America/New_York:20230726T200000
DTEND;TZID=America/New_York:20230726T210000
END:VEVENT
END:VCALENDAR
