BEGIN:VCALENDAR
PRODID:-//eluceo/ical//2.0/EN
VERSION:2.0
CALSCALE:GREGORIAN
BEGIN:VEVENT
UID:e643a2558314955da1a15869b6aa0059
DTSTAMP:20260422T100249Z
SUMMARY:Tisha B'Av Observance at Temple Israel Portsmouth
DESCRIPTION:Jewish Federation of New Hampshire\nCommunity Calendar\nhttps:/
 /jewishnh.org/community-calendar/tisha-bav-observance-at-temple-israel-por
 tsmouth-1565279164\n\nLed by Rabbi Ira Korinow.
DTSTART;TZID=America/New_York:20190810T193000
DTEND;TZID=America/New_York:20190810T210000
END:VEVENT
END:VCALENDAR
