BEGIN:VCALENDAR
PRODID:-//eluceo/ical//2.0/EN
VERSION:2.0
CALSCALE:GREGORIAN
BEGIN:VEVENT
UID:71d7ae47deeb80d45fbb8468e1b6ef2e
DTSTAMP:20260424T103602Z
SUMMARY:Tisha B’Av Study Session
DESCRIPTION:Jewish Federation of New Hampshire\nCommunity Calendar\nhttps:/
 /jewishnh.org/community-calendar/tisha-bav-study-session\n\nMore informati
 on: 669-5650
DTSTART;TZID=America/New_York:20180721T200000
DTEND;TZID=America/New_York:20180721T210000
END:VEVENT
END:VCALENDAR
